BEGIN:VCALENDAR
VERSION:2.0
PRODID:-//InStaff und Jobs GmbH
BEGIN:VEVENT
UID:5d4680f98bd493e21bf2e349d0350fed@instaff.jobs
DTSTAMP:20260424T141618Z
LOCATION:ARENA Berlin\, Eichenstr\. 4\, 12435 Berlin
DTSTART;TZID=Europe/Brussels:20221112T070000Z
DTEND;TZID=Europe/Brussels:20221113T160000Z
SUMMARY:TrauDich! Berlin 2022
DESCRIPTION:https://www.google.com/maps/search/?api=1&query=ARENA+Berlin%2C+Eichenstr.+4%2C+12435+Berlin
END:VEVENT
END:VCALENDAR