BEGIN:VCALENDAR
VERSION:2.0
PRODID:-//InStaff und Jobs GmbH
BEGIN:VEVENT
UID:c889de61202d1a6c60ad841322d1e32e@instaff.jobs
DTSTAMP:20260424T120714Z
LOCATION:Messe Dortmund\, Rheinlanddamm 200\, 44139 Dortmund
DTSTART;TZID=Europe/Brussels:20220119T070000Z
DTEND;TZID=Europe/Brussels:20220120T160000Z
SUMMARY:BOE International 2022
DESCRIPTION:https://www.google.com/maps/search/?api=1&query=Messe+Dortmund%2C+Rheinlanddamm+200%2C+44139+Dortmund
END:VEVENT
BEGIN:VEVENT
UID:b16cc2e1714c766273ed75ad8162eb0f@instaff.jobs
DTSTAMP:20260424T120714Z
LOCATION:Messe Dortmund\, Rheinlanddamm 200\, 44139 Dortmund
DTSTART;TZID=Europe/Brussels:20220122T070000Z
DTEND;TZID=Europe/Brussels:20220123T160000Z
SUMMARY:Hochzeitstage Dortmund 2022
DESCRIPTION:https://www.google.com/maps/search/?api=1&query=Messe+Dortmund%2C+Rheinlanddamm+200%2C+44139+Dortmund
END:VEVENT
BEGIN:VEVENT
UID:db27d6dcccc64ef81fdf867b2de2bcf0@instaff.jobs
DTSTAMP:20260424T120714Z
LOCATION:Messe Westfalenhalle Dortmund\, Rheinlanddamm 200\, 44139 Dortmund
DTSTART;TZID=Europe/Brussels:20220201T070000Z
DTEND;TZID=Europe/Brussels:20220206T160000Z
SUMMARY:JAGD & HUND 2022 [VERSCHOBEN]
DESCRIPTION:https://www.google.com/maps/search/?api=1&query=Messe+Westfalenhalle+Dortmund%2C+Rheinlanddamm+200%2C+44139+Dortmund
END:VEVENT
BEGIN:VEVENT
UID:7bdac6e8ec6f1d9458f37ff572db657f@instaff.jobs
DTSTAMP:20260424T120714Z
LOCATION:Messe Dortmund\, Rheinlanddamm 200\, 44139 Dortmund
DTSTART;TZID=Europe/Brussels:20220216T070000Z
DTEND;TZID=Europe/Brussels:20220217T160000Z
SUMMARY:SOLIDS 2022 [VERSCHOBEN]
DESCRIPTION:https://www.google.com/maps/search/?api=1&query=Messe+Dortmund%2C+Rheinlanddamm+200%2C+44139+Dortmund
END:VEVENT
BEGIN:VEVENT
UID:85947a8cfbe78e405fdade46cd7e3357@instaff.jobs
DTSTAMP:20260424T120714Z
LOCATION:Messe Westfalenhalle Dortmund\, Rheinlanddamm 200\, 44139 Dortmund
DTSTART;TZID=Europe/Brussels:20220316T070000Z
DTEND;TZID=Europe/Brussels:20220320T160000Z
SUMMARY:CREATIVA 2022 [ABGESAGT]
DESCRIPTION:https://www.google.com/maps/search/?api=1&query=Messe+Westfalenhalle+Dortmund%2C+Rheinlanddamm+200%2C+44139+Dortmund
END:VEVENT
BEGIN:VEVENT
UID:744d1d7735a813507334aa05d5c07751@instaff.jobs
DTSTAMP:20260424T120714Z
LOCATION:Messe Dortmund\, Rheinlanddamm 200\, 44139 Dortmund
DTSTART;TZID=Europe/Brussels:20220915T070000Z
DTEND;TZID=Europe/Brussels:20220917T160000Z
SUMMARY:InterTabac 2022
DESCRIPTION:https://www.google.com/maps/search/?api=1&query=Messe+Dortmund%2C+Rheinlanddamm+200%2C+44139+Dortmund
END:VEVENT
BEGIN:VEVENT
UID:9d0110957c4f9f5951bed2ffbde80d64@instaff.jobs
DTSTAMP:20260424T120714Z
LOCATION:Westfalenhallen Dortmund GmbH\, Rheinlanddamm 200\, 44139 Dortmund
DTSTART;TZID=Europe/Brussels:20220923T070000Z
DTEND;TZID=Europe/Brussels:20220925T160000Z
SUMMARY:WM Werkstattmesse Dortmund 2022
DESCRIPTION:https://www.google.com/maps/search/?api=1&query=Westfalenhallen+Dortmund+GmbH%2C+Rheinlanddamm+200%2C+44139+Dortmund
END:VEVENT
BEGIN:VEVENT
UID:7bde33bb3d33b08d037a1b6b1bfb2f91@instaff.jobs
DTSTAMP:20260424T120714Z
LOCATION:Messe Westfalenhalle Dortmund\, Rheinlanddamm 200\, 44139 Dortmund
DTSTART;TZID=Europe/Brussels:20221005T070000Z
DTEND;TZID=Europe/Brussels:20221007T160000Z
SUMMARY:FGSV Kongress 2022
DESCRIPTION:https://www.google.com/maps/search/?api=1&query=Messe+Westfalenhalle+Dortmund%2C+Rheinlanddamm+200%2C+44139+Dortmund
END:VEVENT
BEGIN:VEVENT
UID:fa132a4516961111cf0f09e49df79a8f@instaff.jobs
DTSTAMP:20260424T120714Z
LOCATION:
DTSTART;TZID=Europe/Brussels:20221021T070000Z
DTEND;TZID=Europe/Brussels:20221022T160000Z
SUMMARY:Lekkerland Messe Dortmund 2022
DESCRIPTION:
END:VEVENT
BEGIN:VEVENT
UID:d88ac939d463b7dd208885b9157868b8@instaff.jobs
DTSTAMP:20260424T120714Z
LOCATION:Westfalenhallen\, Rheinlanddamm 200\, 44139 Dortmund
DTSTART;TZID=Europe/Brussels:20221025T070000Z
DTEND;TZID=Europe/Brussels:20221027T160000Z
SUMMARY:DKM 2022
DESCRIPTION:https://www.google.com/maps/search/?api=1&query=Westfalenhallen%2C+Rheinlanddamm+200%2C+44139+Dortmund
END:VEVENT
BEGIN:VEVENT
UID:a848e98f065f1ee24f9733d9d6bc6f28@instaff.jobs
DTSTAMP:20260424T120714Z
LOCATION:Messe Dortmund\, Rheinlanddamm 200\, 44139 Dortmund
DTSTART;TZID=Europe/Brussels:20221029T070000Z
DTEND;TZID=Europe/Brussels:20221030T160000Z
SUMMARY:Hochzeitstage Dortmund 2022
DESCRIPTION:https://www.google.com/maps/search/?api=1&query=Messe+Dortmund%2C+Rheinlanddamm+200%2C+44139+Dortmund
END:VEVENT
BEGIN:VEVENT
UID:48c77e10c105efd7dcd1cb666cf121a6@instaff.jobs
DTSTAMP:20260424T120714Z
LOCATION:Kongress Dortmund\, Rheinlanddamm 200\, 44139 Dortmund
DTSTART;TZID=Europe/Brussels:20221103T070000Z
DTEND;TZID=Europe/Brussels:20221104T160000Z
SUMMARY:RadiologieKongressRuhr 2022
DESCRIPTION:https://www.google.com/maps/search/?api=1&query=Kongress+Dortmund%2C+Rheinlanddamm+200%2C+44139+Dortmund
END:VEVENT
END:VCALENDAR