BEGIN:VCALENDAR
VERSION:2.0
PRODID:-//InStaff und Jobs GmbH
BEGIN:VEVENT
UID:a2fc8e2118ee423c77c04adc041d0fa8@instaff.jobs
DTSTAMP:20260424T141758Z
LOCATION:Grugahalle\, Messeplatz 2\, 45131 Essen
DTSTART;TZID=Europe/Brussels:20220924T070000Z
DTEND;TZID=Europe/Brussels:20220924T160000Z
SUMMARY:Jobmesse Essen 2022
DESCRIPTION:https://www.google.com/maps/search/?api=1&query=Grugahalle%2C+Messeplatz+2%2C+45131+Essen
END:VEVENT
END:VCALENDAR