BEGIN:VCALENDAR
VERSION:2.0
PRODID:-//InStaff und Jobs GmbH
BEGIN:VEVENT
UID:09d4854ce94530c672712a75136db460@instaff.jobs
DTSTAMP:20260424T141758Z
LOCATION:Messe Essen\, Messeplatz 1\, 45131 Essen
DTSTART;TZID=Europe/Brussels:20221110T070000Z
DTEND;TZID=Europe/Brussels:20221113T160000Z
SUMMARY:Mode Heim Handwerk 2022
DESCRIPTION:https://www.google.com/maps/search/?api=1&query=Messe+Essen%2C+Messeplatz+1%2C+45131+Essen
END:VEVENT
END:VCALENDAR