BEGIN:VCALENDAR
VERSION:2.0
PRODID:-//InStaff und Jobs GmbH
BEGIN:VEVENT
UID:4fad65b935a4c785e1b53afecdfdb170@instaff.jobs
DTSTAMP:20260424T140810Z
LOCATION:Messe Essen\, Messeplatz 1\, 45131 Essen
DTSTART;TZID=Europe/Brussels:20221006T070000Z
DTEND;TZID=Europe/Brussels:20221009T160000Z
SUMMARY:SPIEL'22
DESCRIPTION:https://www.google.com/maps/search/?api=1&query=Messe+Essen%2C+Messeplatz+1%2C+45131+Essen
END:VEVENT
END:VCALENDAR