BEGIN:VCALENDAR
VERSION:2.0
PRODID:-//InStaff und Jobs GmbH
BEGIN:VEVENT
UID:9a8c1e5fc21c260500e33ad202befd0f@instaff.jobs
DTSTAMP:20260425T232601Z
LOCATION:Messe Essen\, Messeplatz 1\, 45131 Essen
DTSTART;TZID=Europe/Brussels:20220125T070000Z
DTEND;TZID=Europe/Brussels:20220128T160000Z
SUMMARY:IPM 2022 [VERSCHOBEN]
DESCRIPTION:https://www.google.com/maps/search/?api=1&query=Messe+Essen%2C+Messeplatz+1%2C+45131+Essen
END:VEVENT
BEGIN:VEVENT
UID:58e301d24f26c1800b990bfc9f147d4f@instaff.jobs
DTSTAMP:20260425T232601Z
LOCATION:Messe Essen\, Messeplatz 1\, 45131 Essen
DTSTART;TZID=Europe/Brussels:20220208T070000Z
DTEND;TZID=Europe/Brussels:20220210T160000Z
SUMMARY:E-world energy & water 2022 [VERSCHOBEN]
DESCRIPTION:https://www.google.com/maps/search/?api=1&query=Messe+Essen%2C+Messeplatz+1%2C+45131+Essen
END:VEVENT
BEGIN:VEVENT
UID:2f73067e7203373b32c9a0e8fa0cb18b@instaff.jobs
DTSTAMP:20260425T232601Z
LOCATION:Messe Essen\, Messeplatz 1\, 45131 Essen
DTSTART;TZID=Europe/Brussels:20220216T070000Z
DTEND;TZID=Europe/Brussels:20220220T160000Z
SUMMARY:Reise + Camping 2022
DESCRIPTION:https://www.google.com/maps/search/?api=1&query=Messe+Essen%2C+Messeplatz+1%2C+45131+Essen
END:VEVENT
BEGIN:VEVENT
UID:333c36209e454b70eed72d8688d4dfbb@instaff.jobs
DTSTAMP:20260425T232601Z
LOCATION:Messe Essen\, Messeplatz 1\, 45131 Essen
DTSTART;TZID=Europe/Brussels:20220323T070000Z
DTEND;TZID=Europe/Brussels:20220327T160000Z
SUMMARY:Techno Classica 2022
DESCRIPTION:https://www.google.com/maps/search/?api=1&query=Messe+Essen%2C+Messeplatz+1%2C+45131+Essen
END:VEVENT
BEGIN:VEVENT
UID:fec3580b4fdfaa2974b0cdd257c42af3@instaff.jobs
DTSTAMP:20260425T232601Z
LOCATION:Messegelände Essen\, Messeplatz 1\, 45131 Essen
DTSTART;TZID=Europe/Brussels:20220407T070000Z
DTEND;TZID=Europe/Brussels:20220413T160000Z
SUMMARY:EQUITANA 2022
DESCRIPTION:https://www.google.com/maps/search/?api=1&query=Messegelände+Essen%2C+Messeplatz+1%2C+45131+Essen
END:VEVENT
BEGIN:VEVENT
UID:a53dcf8671ff91613ec052a769e8b4e6@instaff.jobs
DTSTAMP:20260425T232601Z
LOCATION:Messe Essen\, Messepl\. 1\, 45131 Essen
DTSTART;TZID=Europe/Brussels:20220426T070000Z
DTEND;TZID=Europe/Brussels:20220428T160000Z
SUMMARY:ALTENPFLEGE 2022
DESCRIPTION:https://www.google.com/maps/search/?api=1&query=Messe+Essen%2C+Messepl.+1%2C+45131+Essen
END:VEVENT
BEGIN:VEVENT
UID:bc9ac34c2d998ba70cd233140c20f8d8@instaff.jobs
DTSTAMP:20260425T232601Z
LOCATION:Messe Essen\, Messeplatz 1\, 45131 Essen
DTSTART;TZID=Europe/Brussels:20220521T070000Z
DTEND;TZID=Europe/Brussels:20220522T160000Z
SUMMARY:PV Live!
DESCRIPTION:https://www.google.com/maps/search/?api=1&query=Messe+Essen%2C+Messeplatz+1%2C+45131+Essen
END:VEVENT
BEGIN:VEVENT
UID:13b52f2b568097c32bffe19a77edab69@instaff.jobs
DTSTAMP:20260425T232601Z
LOCATION:Messe Essen\, Messeplatz 1\, 45131 Essen
DTSTART;TZID=Europe/Brussels:20220813T070000Z
DTEND;TZID=Europe/Brussels:20220814T160000Z
SUMMARY:GLOW
DESCRIPTION:https://www.google.com/maps/search/?api=1&query=Messe+Essen%2C+Messeplatz+1%2C+45131+Essen
END:VEVENT
BEGIN:VEVENT
UID:954eab93d41e0b3c230fcb05726b374c@instaff.jobs
DTSTAMP:20260425T232601Z
LOCATION:Messe Essen\, Messeplatz 1\, 45131 Essen
DTSTART;TZID=Europe/Brussels:20220906T070000Z
DTEND;TZID=Europe/Brussels:20220909T160000Z
SUMMARY:SHK Essen 2022
DESCRIPTION:https://www.google.com/maps/search/?api=1&query=Messe+Essen%2C+Messeplatz+1%2C+45131+Essen
END:VEVENT
BEGIN:VEVENT
UID:70adb7f1d861a3efbcc13093ff0fb65b@instaff.jobs
DTSTAMP:20260425T232601Z
LOCATION:Messe Essen\, Messeplatz 1\, 45131 Essen
DTSTART;TZID=Europe/Brussels:20220920T070000Z
DTEND;TZID=Europe/Brussels:20220923T160000Z
SUMMARY:Security Essen 2022
DESCRIPTION:https://www.google.com/maps/search/?api=1&query=Messe+Essen%2C+Messeplatz+1%2C+45131+Essen
END:VEVENT
BEGIN:VEVENT
UID:5b95ea83bcea4918b51e3d856fdd59ac@instaff.jobs
DTSTAMP:20260425T232601Z
LOCATION:Grugahalle\, Messeplatz 2\, 45131 Essen
DTSTART;TZID=Europe/Brussels:20220924T070000Z
DTEND;TZID=Europe/Brussels:20220924T160000Z
SUMMARY:Jobmesse Essen 2022
DESCRIPTION:https://www.google.com/maps/search/?api=1&query=Grugahalle%2C+Messeplatz+2%2C+45131+Essen
END:VEVENT
BEGIN:VEVENT
UID:1a5f4f77e37db2572245f161fc077cfd@instaff.jobs
DTSTAMP:20260425T232601Z
LOCATION:Messe Essen\, Messeplatz 1\, 45131 Essen
DTSTART;TZID=Europe/Brussels:20221006T070000Z
DTEND;TZID=Europe/Brussels:20221009T160000Z
SUMMARY:SPIEL'22
DESCRIPTION:https://www.google.com/maps/search/?api=1&query=Messe+Essen%2C+Messeplatz+1%2C+45131+Essen
END:VEVENT
BEGIN:VEVENT
UID:8439284f8904ada69d87cc1b99c94337@instaff.jobs
DTSTAMP:20260425T232601Z
LOCATION:Messe Essen\, Messeplatz 1\, 45131 Essen
DTSTART;TZID=Europe/Brussels:20221018T070000Z
DTEND;TZID=Europe/Brussels:20221020T160000Z
SUMMARY:INTERGEO 2022
DESCRIPTION:https://www.google.com/maps/search/?api=1&query=Messe+Essen%2C+Messeplatz+1%2C+45131+Essen
END:VEVENT
BEGIN:VEVENT
UID:82b4b37c7e79d27ae87682305ad4b9ec@instaff.jobs
DTSTAMP:20260425T232601Z
LOCATION:Messe Essen\, Messeplatz 1\, 45131 Essen
DTSTART;TZID=Europe/Brussels:20221110T070000Z
DTEND;TZID=Europe/Brussels:20221113T160000Z
SUMMARY:Mode Heim Handwerk 2022
DESCRIPTION:https://www.google.com/maps/search/?api=1&query=Messe+Essen%2C+Messeplatz+1%2C+45131+Essen
END:VEVENT
BEGIN:VEVENT
UID:128ae16936c82a97d472b7f771bb9279@instaff.jobs
DTSTAMP:20260425T232601Z
LOCATION:Messe Essen\, Messeplatz 1\, 45131 Essen
DTSTART;TZID=Europe/Brussels:20221203T070000Z
DTEND;TZID=Europe/Brussels:20221211T160000Z
SUMMARY:Essen Motor Show 2022
DESCRIPTION:https://www.google.com/maps/search/?api=1&query=Messe+Essen%2C+Messeplatz+1%2C+45131+Essen
END:VEVENT
END:VCALENDAR