BEGIN:VCALENDAR
VERSION:2.0
PRODID:-//InStaff und Jobs GmbH
BEGIN:VEVENT
UID:0c11d91a5bab360fa503de33b08693cf@instaff.jobs
DTSTAMP:20260424T141556Z
LOCATION:Messe Friedrichshafen\, Neue Messe 1\, 88046 Friedrichshafen
DTSTART;TZID=Europe/Brussels:20220427T070000Z
DTEND;TZID=Europe/Brussels:20220430T160000Z
SUMMARY:AERO 2022
DESCRIPTION:https://www.google.com/maps/search/?api=1&query=Messe+Friedrichshafen%2C+Neue+Messe+1%2C+88046+Friedrichshafen
END:VEVENT
END:VCALENDAR