BEGIN:VCALENDAR
VERSION:2.0
PRODID:-//InStaff und Jobs GmbH
BEGIN:VEVENT
UID:dcf0fc6cdefb2e16f404b510dfa29eff@instaff.jobs
DTSTAMP:20260424T141806Z
LOCATION:ZF Forum\, Löwentaler Str\. 20\, 88046 Friedrichshafen
DTSTART;TZID=Europe/Brussels:20220118T070000Z
DTEND;TZID=Europe/Brussels:20220118T160000Z
SUMMARY:VDA Logistik-Award 2022
DESCRIPTION:https://www.google.com/maps/search/?api=1&query=ZF+Forum%2C+Löwentaler+Str.+20%2C+88046+Friedrichshafen
END:VEVENT
END:VCALENDAR