BEGIN:VCALENDAR
VERSION:2.0
PRODID:-//InStaff und Jobs GmbH
BEGIN:VEVENT
UID:d22a9b062b6bd6d27612200707e4303a@instaff.jobs
DTSTAMP:20260424T141923Z
LOCATION:Hannover Messe\, Messegelände\, 30521 Hannover
DTSTART;TZID=Europe/Brussels:20220920T070000Z
DTEND;TZID=Europe/Brussels:20220925T160000Z
SUMMARY:IAA Nutzfahrzeuge 2022
DESCRIPTION:https://www.google.com/maps/search/?api=1&query=Hannover+Messe%2C+Messegelände%2C+30521+Hannover
END:VEVENT
END:VCALENDAR