BEGIN:VCALENDAR
VERSION:2.0
PRODID:-//InStaff und Jobs GmbH
BEGIN:VEVENT
UID:90dc843919043da821f73a28855b60bd@instaff.jobs
DTSTAMP:20260424T141556Z
LOCATION:Koelnmesse GmbH\, Messeplatz 1\, 50679 Köln
DTSTART;TZID=Europe/Brussels:20220322T070000Z
DTEND;TZID=Europe/Brussels:20220326T160000Z
SUMMARY:didacta 2022 [VERSCHOBEN]
DESCRIPTION:https://www.google.com/maps/search/?api=1&query=Koelnmesse+GmbH%2C+Messeplatz+1%2C+50679+Köln
END:VEVENT
END:VCALENDAR