BEGIN:VCALENDAR
VERSION:2.0
PRODID:-//InStaff und Jobs GmbH
BEGIN:VEVENT
UID:2dabf64e34ce1dd1039e2e66c4486dc9@instaff.jobs
DTSTAMP:20260424T140833Z
LOCATION:Koelnmesse\, Eingang Ost\, Halle 10\.2 \/ Congress-Centrum Ost\, Deutz-Mülheimer Straße 35\, 50679 Köln
DTSTART;TZID=Europe/Brussels:20221122T070000Z
DTEND;TZID=Europe/Brussels:20221124T160000Z
SUMMARY:PMRExpo 2022
DESCRIPTION:https://www.google.com/maps/search/?api=1&query=Koelnmesse%2C+Eingang+Ost%2C+Halle+10.2+/+Congress-Centrum+Ost%2C+Deutz-Mülheimer+Straße+35%2C+50679+Köln
END:VEVENT
END:VCALENDAR