BEGIN:VCALENDAR
VERSION:2.0
PRODID:-//InStaff und Jobs GmbH
BEGIN:VEVENT
UID:e4de95aa6aeb7e90f3fef85df772b90d@instaff.jobs
DTSTAMP:20260424T140832Z
LOCATION:Messe Köln\, Messeplatz 1\, 50679 Köln
DTSTART;TZID=Europe/Brussels:20220130T070000Z
DTEND;TZID=Europe/Brussels:20220202T160000Z
SUMMARY:ProSweets Cologne 2022
DESCRIPTION:https://www.google.com/maps/search/?api=1&query=Messe+Köln%2C+Messeplatz+1%2C+50679+Köln
END:VEVENT
END:VCALENDAR