BEGIN:VCALENDAR
VERSION:2.0
PRODID:-//InStaff und Jobs GmbH
BEGIN:VEVENT
UID:47815700cbf46c05bc95f753fb65fbe0@instaff.jobs
DTSTAMP:20260424T141807Z
LOCATION:Messe Leipzig\, Messe-Allee 1\, 04356 Leipzig
DTSTART;TZID=Europe/Brussels:20221011T070000Z
DTEND;TZID=Europe/Brussels:20221013T160000Z
SUMMARY:DSAG Jahreskongress 2022
DESCRIPTION:https://www.google.com/maps/search/?api=1&query=Messe+Leipzig%2C+Messe-Allee+1%2C+04356+Leipzig
END:VEVENT
END:VCALENDAR