BEGIN:VCALENDAR
VERSION:2.0
PRODID:-//InStaff und Jobs GmbH
BEGIN:VEVENT
UID:324a2d1d41f7b44b94157d68177a0a05@instaff.jobs
DTSTAMP:20260424T140847Z
LOCATION:Messe Stuttgart\, Messepiazza 1\, 70629 Stuttgart
DTSTART;TZID=Europe/Brussels:20220520T070000Z
DTEND;TZID=Europe/Brussels:20220521T160000Z
SUMMARY:Invest 2022
DESCRIPTION:https://www.google.com/maps/search/?api=1&query=Messe+Stuttgart%2C+Messepiazza+1%2C+70629+Stuttgart
END:VEVENT
END:VCALENDAR