BEGIN:VCALENDAR
VERSION:2.0
PRODID:-//InStaff und Jobs GmbH
BEGIN:VEVENT
UID:7cb41460e54418cf65ea93d0a5fac6fc@instaff.jobs
DTSTAMP:20260424T140811Z
LOCATION:Landesmesse Stuttgart\, Messepiazza 1\, 70629 Stuttgart
DTSTART;TZID=Europe/Brussels:20220531T070000Z
DTEND;TZID=Europe/Brussels:20220602T160000Z
SUMMARY:LogiMAT 2022
DESCRIPTION:https://www.google.com/maps/search/?api=1&query=Landesmesse+Stuttgart%2C+Messepiazza+1%2C+70629+Stuttgart
END:VEVENT
END:VCALENDAR