BEGIN:VCALENDAR
VERSION:2.0
PRODID:-//InStaff und Jobs GmbH
BEGIN:VEVENT
UID:c8089989b29dc6ccae5286b49a616cdb@instaff.jobs
DTSTAMP:20260426T012934Z
LOCATION:Sophie-Barat-Schule\, Neue Rabenstraße 1\, 20354 Hamburg
DTSTART;TZID=Europe/Brussels:20231111T070000Z
DTEND;TZID=Europe/Brussels:20231111T160000Z
SUMMARY:AUF IN DIE WELT Hamburg (2) 2023
DESCRIPTION:https://www.google.com/maps/search/?api=1&query=Sophie-Barat-Schule%2C+Neue+Rabenstraße+1%2C+20354+Hamburg
END:VEVENT
END:VCALENDAR