BEGIN:VCALENDAR
VERSION:2.0
PRODID:-//InStaff und Jobs GmbH
BEGIN:VEVENT
UID:02f650a25116532705466ee79a8f6c8b@instaff.jobs
DTSTAMP:20260426T012934Z
LOCATION:BZ Business Center\, Ludwig-Erhard-Str\. 18\, 20459 Hamburg
DTSTART;TZID=Europe/Brussels:20230604T070000Z
DTEND;TZID=Europe/Brussels:20230604T160000Z
SUMMARY:Beautymesse Hamburg
DESCRIPTION:https://www.google.com/maps/search/?api=1&query=BZ+Business+Center%2C+Ludwig-Erhard-Str.+18%2C+20459+Hamburg
END:VEVENT
END:VCALENDAR