BEGIN:VCALENDAR
VERSION:2.0
PRODID:-//InStaff und Jobs GmbH
BEGIN:VEVENT
UID:d9cb78ae4668c7b169150aeee5d6e6c5@instaff.jobs
DTSTAMP:20260426T013643Z
LOCATION:Hamburger Polo Club e\.V\.\, Jenischstraße 26\, 22609 Hamburg
DTSTART;TZID=Europe/Brussels:20230825T070000Z
DTEND;TZID=Europe/Brussels:20230827T160000Z
SUMMARY:British Flair 2023 [ABGESAGT]
DESCRIPTION:https://www.google.com/maps/search/?api=1&query=Hamburger+Polo+Club+e.V.%2C+Jenischstraße+26%2C+22609+Hamburg
END:VEVENT
END:VCALENDAR