BEGIN:VCALENDAR
VERSION:2.0
PRODID:-//InStaff und Jobs GmbH
BEGIN:VEVENT
UID:2b9b91f4544dbeab79004bc45f399b25@instaff.jobs
DTSTAMP:20260426T031244Z
LOCATION:CinemaxX Hamburg-Dammtor\, Dammtordamm 1\, 20354 Hamburg
DTSTART;TZID=Europe/Brussels:20230321T070000Z
DTEND;TZID=Europe/Brussels:20230322T160000Z
SUMMARY:d3con 2023
DESCRIPTION:https://www.google.com/maps/search/?api=1&query=CinemaxX+Hamburg-Dammtor%2C+Dammtordamm+1%2C+20354+Hamburg
END:VEVENT
END:VCALENDAR