BEGIN:VCALENDAR
VERSION:2.0
PRODID:-//InStaff und Jobs GmbH
BEGIN:VEVENT
UID:fc29bb6ad673e8cb651fc0cceb830bdc@instaff.jobs
DTSTAMP:20260426T012723Z
LOCATION:
DTSTART;TZID=Europe/Brussels:20230604T070000Z
DTEND;TZID=Europe/Brussels:20230604T160000Z
SUMMARY:IRONMAN 2023
DESCRIPTION:
END:VEVENT
END:VCALENDAR