BEGIN:VCALENDAR
VERSION:2.0
PRODID:-//InStaff und Jobs GmbH
BEGIN:VEVENT
UID:b3def4ae143252bc8d9dee9ab7833543@instaff.jobs
DTSTAMP:20260425T233839Z
LOCATION:Hamburg Messe und Congress\, Messeplatz 1\, 20357 Hamburg
DTSTART;TZID=Europe/Brussels:20230114T070000Z
DTEND;TZID=Europe/Brussels:20230116T160000Z
SUMMARY:Nordstil Winter 2023
DESCRIPTION:https://www.google.com/maps/search/?api=1&query=Hamburg+Messe+und+Congress%2C+Messeplatz+1%2C+20357+Hamburg
END:VEVENT
BEGIN:VEVENT
UID:6f028451ef6053e12017204e8f0ff894@instaff.jobs
DTSTAMP:20260425T233839Z
LOCATION:Hamburg Messe\, Messeplatz 1\, 20357 Hamburg
DTSTART;TZID=Europe/Brussels:20230121T070000Z
DTEND;TZID=Europe/Brussels:20230122T160000Z
SUMMARY:Hochzeitstage 2023
DESCRIPTION:https://www.google.com/maps/search/?api=1&query=Hamburg+Messe%2C+Messeplatz+1%2C+20357+Hamburg
END:VEVENT
BEGIN:VEVENT
UID:1f0bf0ab2bd024dc17f29ebda900cda4@instaff.jobs
DTSTAMP:20260425T233839Z
LOCATION:Hamburg Messe\, Messeplatz 1\, 20357 Hamburg
DTSTART;TZID=Europe/Brussels:20230208T070000Z
DTEND;TZID=Europe/Brussels:20230212T160000Z
SUMMARY:FOTOHAVEN HAMBURG 2023
DESCRIPTION:https://www.google.com/maps/search/?api=1&query=Hamburg+Messe%2C+Messeplatz+1%2C+20357+Hamburg
END:VEVENT
BEGIN:VEVENT
UID:2b87c4822f85ec660308a9c42d653858@instaff.jobs
DTSTAMP:20260425T233839Z
LOCATION:Hamburg Messe\, Messeplatz 1\, 20357 Hamburg
DTSTART;TZID=Europe/Brussels:20230208T070000Z
DTEND;TZID=Europe/Brussels:20230212T160000Z
SUMMARY:REISEN HAMBURG 2023
DESCRIPTION:https://www.google.com/maps/search/?api=1&query=Hamburg+Messe%2C+Messeplatz+1%2C+20357+Hamburg
END:VEVENT
BEGIN:VEVENT
UID:fa65125acf94ec96588e239e35c2e8ef@instaff.jobs
DTSTAMP:20260425T233839Z
LOCATION:Empire Riverside Hotel\, Bernhard-Nocht-Str\. 97\, 20359 Hamburg
DTSTART;TZID=Europe/Brussels:20230310T070000Z
DTEND;TZID=Europe/Brussels:20230313T160000Z
SUMMARY:Gastro Vision 2023
DESCRIPTION:https://www.google.com/maps/search/?api=1&query=Empire+Riverside+Hotel%2C+Bernhard-Nocht-Str.+97%2C+20359+Hamburg
END:VEVENT
BEGIN:VEVENT
UID:7f3f7379474f85e6ea9745782013901b@instaff.jobs
DTSTAMP:20260425T233839Z
LOCATION:Hamburg Messe und Congress\, Messeplatz 1\, 20357 Hamburg
DTSTART;TZID=Europe/Brussels:20230310T070000Z
DTEND;TZID=Europe/Brussels:20230314T160000Z
SUMMARY:INTERNORGA 2023
DESCRIPTION:https://www.google.com/maps/search/?api=1&query=Hamburg+Messe+und+Congress%2C+Messeplatz+1%2C+20357+Hamburg
END:VEVENT
BEGIN:VEVENT
UID:6bf09bd257137473bbc41e76e89420e7@instaff.jobs
DTSTAMP:20260425T233839Z
LOCATION:CinemaxX Hamburg-Dammtor\, Dammtordamm 1\, 20354 Hamburg
DTSTART;TZID=Europe/Brussels:20230321T070000Z
DTEND;TZID=Europe/Brussels:20230322T160000Z
SUMMARY:d3con 2023
DESCRIPTION:https://www.google.com/maps/search/?api=1&query=CinemaxX+Hamburg-Dammtor%2C+Dammtordamm+1%2C+20354+Hamburg
END:VEVENT
BEGIN:VEVENT
UID:ab50e70ca2d8267de7e1cdde61d15172@instaff.jobs
DTSTAMP:20260425T233839Z
LOCATION:Volksparkstadion\, Sylversterallee 7\, 22525 Hamburg
DTSTART;TZID=Europe/Brussels:20230325T070000Z
DTEND;TZID=Europe/Brussels:20230325T160000Z
SUMMARY:Jobmesse Hamburg Frühjahr 2023
DESCRIPTION:https://www.google.com/maps/search/?api=1&query=Volksparkstadion%2C+Sylversterallee+7%2C+22525+Hamburg
END:VEVENT
BEGIN:VEVENT
UID:3207ef4274a280b85ccde2a5d1bbf37b@instaff.jobs
DTSTAMP:20260425T233839Z
LOCATION:CURIO-HAUS\, Rothenbaumchaussee 11\, 20148 Hamburg\.
DTSTART;TZID=Europe/Brussels:20230506T070000Z
DTEND;TZID=Europe/Brussels:20230507T160000Z
SUMMARY:GLOW 2023
DESCRIPTION:https://www.google.com/maps/search/?api=1&query=CURIO-HAUS%2C+Rothenbaumchaussee+11%2C+20148+Hamburg.
END:VEVENT
BEGIN:VEVENT
UID:c740eec21df23e0820e76474ac8a6fd7@instaff.jobs
DTSTAMP:20260425T233839Z
LOCATION:Messehalle Hamburg Schnelsen\, Modering 1a\, 22457 Hamburg
DTSTART;TZID=Europe/Brussels:20230520T070000Z
DTEND;TZID=Europe/Brussels:20230521T160000Z
SUMMARY:Tastii Food-Messe "[ABGESAGT]"
DESCRIPTION:https://www.google.com/maps/search/?api=1&query=Messehalle+Hamburg+Schnelsen%2C+Modering+1a%2C+22457+Hamburg
END:VEVENT
BEGIN:VEVENT
UID:4775a92d3e308d20eddd92754c671b56@instaff.jobs
DTSTAMP:20260425T233839Z
LOCATION:BZ Business Center\, Ludwig-Erhard-Str\. 18\, 20459 Hamburg
DTSTART;TZID=Europe/Brussels:20230604T070000Z
DTEND;TZID=Europe/Brussels:20230604T160000Z
SUMMARY:Beautymesse Hamburg
DESCRIPTION:https://www.google.com/maps/search/?api=1&query=BZ+Business+Center%2C+Ludwig-Erhard-Str.+18%2C+20459+Hamburg
END:VEVENT
BEGIN:VEVENT
UID:b6839e545d9317cd60015c030407b044@instaff.jobs
DTSTAMP:20260425T233839Z
LOCATION:
DTSTART;TZID=Europe/Brussels:20230604T070000Z
DTEND;TZID=Europe/Brussels:20230604T160000Z
SUMMARY:IRONMAN 2023
DESCRIPTION:
END:VEVENT
BEGIN:VEVENT
UID:20a752e6a6750c6a417660a97379ee25@instaff.jobs
DTSTAMP:20260425T233839Z
LOCATION:Hamburg Messe und Congress\, Messeplatz 1\, 20357 Hamburg
DTSTART;TZID=Europe/Brussels:20230606T070000Z
DTEND;TZID=Europe/Brussels:20230608T160000Z
SUMMARY:AIX - Aircraft Interiors Expo 2023
DESCRIPTION:https://www.google.com/maps/search/?api=1&query=Hamburg+Messe+und+Congress%2C+Messeplatz+1%2C+20357+Hamburg
END:VEVENT
BEGIN:VEVENT
UID:faed1b2413deba8359b59ebfd0febee3@instaff.jobs
DTSTAMP:20260425T233839Z
LOCATION:Hamburg Messe und Congress\, Messeplatz 1\, 20357 Hamburg
DTSTART;TZID=Europe/Brussels:20230606T070000Z
DTEND;TZID=Europe/Brussels:20230608T160000Z
SUMMARY:WTCE - World Travel Catering & Onboard Services EXPO 2023
DESCRIPTION:https://www.google.com/maps/search/?api=1&query=Hamburg+Messe+und+Congress%2C+Messeplatz+1%2C+20357+Hamburg
END:VEVENT
BEGIN:VEVENT
UID:fe084d44c11d323df9cd033999c004d0@instaff.jobs
DTSTAMP:20260425T233839Z
LOCATION:Hamburg Messe und Congress\, Messeplatz 1\, 20357 Hamburg
DTSTART;TZID=Europe/Brussels:20230722T070000Z
DTEND;TZID=Europe/Brussels:20230724T160000Z
SUMMARY:Nordstil Sommer 2023
DESCRIPTION:https://www.google.com/maps/search/?api=1&query=Hamburg+Messe+und+Congress%2C+Messeplatz+1%2C+20357+Hamburg
END:VEVENT
BEGIN:VEVENT
UID:5d0064b40b665353f82df374d35fe029@instaff.jobs
DTSTAMP:20260425T233839Z
LOCATION:Hamburger Polo Club e\.V\.\, Jenischstraße 26\, 22609 Hamburg
DTSTART;TZID=Europe/Brussels:20230825T070000Z
DTEND;TZID=Europe/Brussels:20230827T160000Z
SUMMARY:British Flair 2023 [ABGESAGT]
DESCRIPTION:https://www.google.com/maps/search/?api=1&query=Hamburger+Polo+Club+e.V.%2C+Jenischstraße+26%2C+22609+Hamburg
END:VEVENT
BEGIN:VEVENT
UID:0381347863ae0d527b6f554cb98b212b@instaff.jobs
DTSTAMP:20260425T233839Z
LOCATION:Volksparkstadion\, Sylversterallee 7\, 22525 Hamburg
DTSTART;TZID=Europe/Brussels:20230906T070000Z
DTEND;TZID=Europe/Brussels:20230906T160000Z
SUMMARY:Jobmesse Hamburg Herbst 2023
DESCRIPTION:https://www.google.com/maps/search/?api=1&query=Volksparkstadion%2C+Sylversterallee+7%2C+22525+Hamburg
END:VEVENT
BEGIN:VEVENT
UID:9a37c3c67e98c6345806efb0b262de41@instaff.jobs
DTSTAMP:20260425T233839Z
LOCATION:Hamburg Messe \& Congress GmbH\, Congressplatz 1\, 20355 Hamburg
DTSTART;TZID=Europe/Brussels:20230906T070000Z
DTEND;TZID=Europe/Brussels:20230908T160000Z
SUMMARY:Seatrade Europe 2023
DESCRIPTION:https://www.google.com/maps/search/?api=1&query=Hamburg+Messe+&+Congress+GmbH%2C+Congressplatz+1%2C+20355+Hamburg
END:VEVENT
BEGIN:VEVENT
UID:22d0718e6839630efd44abbcee8810da@instaff.jobs
DTSTAMP:20260425T233839Z
LOCATION:CCH Congress Center Hamburg\, Congressplatz 1\, 20355 Hamburg
DTSTART;TZID=Europe/Brussels:20230906T070000Z
DTEND;TZID=Europe/Brussels:20230909T160000Z
SUMMARY:Deutscher Hautkrebskongress 2023
DESCRIPTION:https://www.google.com/maps/search/?api=1&query=CCH+Congress+Center+Hamburg%2C+Congressplatz+1%2C+20355+Hamburg
END:VEVENT
BEGIN:VEVENT
UID:7a27825b05e0f6ad8909724a4dad3920@instaff.jobs
DTSTAMP:20260425T233839Z
LOCATION:
DTSTART;TZID=Europe/Brussels:20230908T070000Z
DTEND;TZID=Europe/Brussels:20230910T160000Z
SUMMARY:Hamburg Cruise Days 2023
DESCRIPTION:
END:VEVENT
BEGIN:VEVENT
UID:41f24706c58402046253796e73e1c196@instaff.jobs
DTSTAMP:20260425T233839Z
LOCATION:Hamburger Yachthafen\, Deichstraße 19\, 22880 Wedel
DTSTART;TZID=Europe/Brussels:20230908T070000Z
DTEND;TZID=Europe/Brussels:20230910T160000Z
SUMMARY:HAMBURG YACHTFESTIVAL 2023
DESCRIPTION:https://www.google.com/maps/search/?api=1&query=Hamburger+Yachthafen%2C+Deichstraße+19%2C+22880+Wedel
END:VEVENT
BEGIN:VEVENT
UID:84443918cd71781c5475944c1fcbda75@instaff.jobs
DTSTAMP:20260425T233839Z
LOCATION:CCH - Congress Center Hamburg\, Congressplatz 1\, 20355 Hamburg
DTSTART;TZID=Europe/Brussels:20230920T070000Z
DTEND;TZID=Europe/Brussels:20230923T160000Z
SUMMARY:DGKJ-Jahrestagung 2023
DESCRIPTION:https://www.google.com/maps/search/?api=1&query=CCH+-+Congress+Center+Hamburg%2C+Congressplatz+1%2C+20355+Hamburg
END:VEVENT
BEGIN:VEVENT
UID:b36e3cf789f39a13ab7f7042d939773b@instaff.jobs
DTSTAMP:20260425T233839Z
LOCATION:Hamburger Reeperbahn\, Reeperbahn\, 20359 Hamburg
DTSTART;TZID=Europe/Brussels:20230920T070000Z
DTEND;TZID=Europe/Brussels:20230923T160000Z
SUMMARY:Reeperbahn Festival 2023
DESCRIPTION:https://www.google.com/maps/search/?api=1&query=Hamburger+Reeperbahn%2C+Reeperbahn%2C+20359+Hamburg
END:VEVENT
BEGIN:VEVENT
UID:59cd71c0f8585b29f8c4ba1dc7f2090b@instaff.jobs
DTSTAMP:20260425T233839Z
LOCATION:Gleishalle Oberhafen\, Stockmeyerstraße 43\, 20457 Hamburg \(HafenCity\)
DTSTART;TZID=Europe/Brussels:20230923T070000Z
DTEND;TZID=Europe/Brussels:20230924T160000Z
SUMMARY:Green World Tour Hamburg 2023
DESCRIPTION:https://www.google.com/maps/search/?api=1&query=Gleishalle+Oberhafen%2C+Stockmeyerstraße+43%2C+20457+Hamburg+(HafenCity)
END:VEVENT
BEGIN:VEVENT
UID:968d292c84719074bba479b9365f971e@instaff.jobs
DTSTAMP:20260425T233839Z
LOCATION:Messe Hamburg\, Messeplatz 1\, 20357 Hamburg
DTSTART;TZID=Europe/Brussels:20231002T070000Z
DTEND;TZID=Europe/Brussels:20231006T160000Z
SUMMARY:EASD Annual Meeting 2023
DESCRIPTION:https://www.google.com/maps/search/?api=1&query=Messe+Hamburg%2C+Messeplatz+1%2C+20357+Hamburg
END:VEVENT
BEGIN:VEVENT
UID:db0d2426379126f6de97f67a07337ebb@instaff.jobs
DTSTAMP:20260425T233839Z
LOCATION:Hamburg Messe \+ Congress\, Messeplatz 1\, 20357 Hamburg
DTSTART;TZID=Europe/Brussels:20231006T070000Z
DTEND;TZID=Europe/Brussels:20231008T160000Z
SUMMARY:Babini Hamburg 2023
DESCRIPTION:https://www.google.com/maps/search/?api=1&query=Hamburg+Messe+++Congress%2C+Messeplatz+1%2C+20357+Hamburg
END:VEVENT
BEGIN:VEVENT
UID:c8170df20c4dce9f1a03bff9222fdcc6@instaff.jobs
DTSTAMP:20260425T233839Z
LOCATION:Stadtteilschule Meiendorf\, Deepenhorn 1\, 22145 Hamburg
DTSTART;TZID=Europe/Brussels:20231007T070000Z
DTEND;TZID=Europe/Brussels:20231007T160000Z
SUMMARY:AUF IN DIE WELT Hamburg 2023
DESCRIPTION:https://www.google.com/maps/search/?api=1&query=Stadtteilschule+Meiendorf%2C+Deepenhorn+1%2C+22145+Hamburg
END:VEVENT
BEGIN:VEVENT
UID:4c138a47487b5508e33b1cb8b51aadc5@instaff.jobs
DTSTAMP:20260425T233839Z
LOCATION:Handelskammer Hamburg\, Adolphspl\. 1\, 20457 Hamburg
DTSTART;TZID=Europe/Brussels:20231012T070000Z
DTEND;TZID=Europe/Brussels:20231012T160000Z
SUMMARY:Online-Karrieretag Hamburg 2023
DESCRIPTION:https://www.google.com/maps/search/?api=1&query=Handelskammer+Hamburg%2C+Adolphspl.+1%2C+20457+Hamburg
END:VEVENT
BEGIN:VEVENT
UID:3a65db59e7eee8a69169ea4c0950ceee@instaff.jobs
DTSTAMP:20260425T233839Z
LOCATION:edel-optics\.de Arena\, Kurt-Emmerich-Platz 10\, 21109 Hamburg
DTSTART;TZID=Europe/Brussels:20231102T070000Z
DTEND;TZID=Europe/Brussels:20231102T160000Z
SUMMARY:Bachelor Messe Hamburg 2023
DESCRIPTION:https://www.google.com/maps/search/?api=1&query=edel-optics.de+Arena%2C+Kurt-Emmerich-Platz+10%2C+21109+Hamburg
END:VEVENT
BEGIN:VEVENT
UID:93e630c4052b96e00e9a80b80eca743e@instaff.jobs
DTSTAMP:20260425T233839Z
LOCATION:Sporthalle Hamburg\, Krochmannstraße 55\, 22297 Hamburg
DTSTART;TZID=Europe/Brussels:20231108T070000Z
DTEND;TZID=Europe/Brussels:20231108T160000Z
SUMMARY:Traumberuf Schülermesse Hamburg 2023
DESCRIPTION:https://www.google.com/maps/search/?api=1&query=Sporthalle+Hamburg%2C+Krochmannstraße+55%2C+22297+Hamburg
END:VEVENT
BEGIN:VEVENT
UID:f2b32c5c4555bb7bca122685f7695f4d@instaff.jobs
DTSTAMP:20260425T233839Z
LOCATION:Sophie-Barat-Schule\, Neue Rabenstraße 1\, 20354 Hamburg
DTSTART;TZID=Europe/Brussels:20231111T070000Z
DTEND;TZID=Europe/Brussels:20231111T160000Z
SUMMARY:AUF IN DIE WELT Hamburg (2) 2023
DESCRIPTION:https://www.google.com/maps/search/?api=1&query=Sophie-Barat-Schule%2C+Neue+Rabenstraße+1%2C+20354+Hamburg
END:VEVENT
BEGIN:VEVENT
UID:dc312ec6db3abf1c04862d5cdcbaad43@instaff.jobs
DTSTAMP:20260425T233839Z
LOCATION:
DTSTART;TZID=Europe/Brussels:20231111T070000Z
DTEND;TZID=Europe/Brussels:20231111T160000Z
SUMMARY:Stuzubi Hamburg 2023
DESCRIPTION:
END:VEVENT
BEGIN:VEVENT
UID:eab1d1ad5e0f1691b883acf1ab48c28e@instaff.jobs
DTSTAMP:20260425T233839Z
LOCATION:MesseHalle Schnelsen\, Modering 1a\, 22457 Hamburg
DTSTART;TZID=Europe/Brussels:20231123T070000Z
DTEND;TZID=Europe/Brussels:20231123T160000Z
SUMMARY:TAXarena Hamburg 2023
DESCRIPTION:https://www.google.com/maps/search/?api=1&query=MesseHalle+Schnelsen%2C+Modering+1a%2C+22457+Hamburg
END:VEVENT
BEGIN:VEVENT
UID:5162a98edcf990dafaf39c2bec3c42c4@instaff.jobs
DTSTAMP:20260425T233839Z
LOCATION:edel-optics\.de Arena\, Kurt-Emmerich-Platz 10\, 21109 Hamburg
DTSTART;TZID=Europe/Brussels:20231201T070000Z
DTEND;TZID=Europe/Brussels:20231201T160000Z
SUMMARY:Master Messe Hamburg 2023
DESCRIPTION:https://www.google.com/maps/search/?api=1&query=edel-optics.de+Arena%2C+Kurt-Emmerich-Platz+10%2C+21109+Hamburg
END:VEVENT
BEGIN:VEVENT
UID:e96217eab3ebfe974125ae26ed21a788@instaff.jobs
DTSTAMP:20260425T233839Z
LOCATION:Gymnasium Marienthal\, Holstenhofweg 86\, 22043 Hamburg
DTSTART;TZID=Europe/Brussels:20231202T070000Z
DTEND;TZID=Europe/Brussels:20231202T160000Z
SUMMARY:AUF IN DIE WELT Hamburg (2) 2023
DESCRIPTION:https://www.google.com/maps/search/?api=1&query=Gymnasium+Marienthal%2C+Holstenhofweg+86%2C+22043+Hamburg
END:VEVENT
BEGIN:VEVENT
UID:68880ee8aa7d55e3a615561966e1de66@instaff.jobs
DTSTAMP:20260425T233839Z
LOCATION:Messe-Halle B3\, St\. Petersburger Str\. 30A\, 20355 Hamburg
DTSTART;TZID=Europe/Brussels:20231209T070000Z
DTEND;TZID=Europe/Brussels:20231210T160000Z
SUMMARY:Holy Shit Shopping Hamburg
DESCRIPTION:https://www.google.com/maps/search/?api=1&query=Messe-Halle+B3%2C+St.+Petersburger+Str.+30A%2C+20355+Hamburg
END:VEVENT
END:VCALENDAR