BEGIN:VCALENDAR
VERSION:2.0
PRODID:-//InStaff und Jobs GmbH
BEGIN:VEVENT
UID:8578cbb222df96266e8cc6d39ce87409@instaff.jobs
DTSTAMP:20260424T110638Z
LOCATION:Hannover Congress Centrum Eilenriedehalle\, Theodor-Heuss-Platz 1-3\, 30175 Hannover
DTSTART;TZID=Europe/Brussels:20230624T070000Z
DTEND;TZID=Europe/Brussels:20230625T160000Z
SUMMARY:15 jobmesse hannover 2023
DESCRIPTION:https://www.google.com/maps/search/?api=1&query=Hannover+Congress+Centrum+Eilenriedehalle%2C+Theodor-Heuss-Platz+1-3%2C+30175+Hannover
END:VEVENT
END:VCALENDAR