BEGIN:VCALENDAR
VERSION:2.0
PRODID:-//InStaff und Jobs GmbH
BEGIN:VEVENT
UID:da3b56d8d4d9910d1876dc0e134d74ff@instaff.jobs
DTSTAMP:20260424T110532Z
LOCATION:Hannover Messe\, Messegelände\, 30521 Hannover
DTSTART;TZID=Europe/Brussels:20231112T070000Z
DTEND;TZID=Europe/Brussels:20231118T160000Z
SUMMARY:Agritechnica 2023
DESCRIPTION:https://www.google.com/maps/search/?api=1&query=Hannover+Messe%2C+Messegelände%2C+30521+Hannover
END:VEVENT
END:VCALENDAR