BEGIN:VCALENDAR
VERSION:2.0
PRODID:-//InStaff und Jobs GmbH
BEGIN:VEVENT
UID:1a2c9b111fb02b506be14f8952946c05@instaff.jobs
DTSTAMP:20260424T110441Z
LOCATION:Hannover Messe\, Messegelände\, 30521 Hannover
DTSTART;TZID=Europe/Brussels:20230509T070000Z
DTEND;TZID=Europe/Brussels:20230511T160000Z
SUMMARY:LABVOLUTION 2023
DESCRIPTION:https://www.google.com/maps/search/?api=1&query=Hannover+Messe%2C+Messegelände%2C+30521+Hannover
END:VEVENT
END:VCALENDAR