BEGIN:VCALENDAR
VERSION:2.0
PRODID:-//InStaff und Jobs GmbH
BEGIN:VEVENT
UID:acce50fb0d27c736099a92aa8e7ee5a0@instaff.jobs
DTSTAMP:20260424T063157Z
LOCATION:Europa-Park\, Europa-Park-Straße 2\, 77977 Rust
DTSTART;TZID=Europe/Brussels:20230321T070000Z
DTEND;TZID=Europe/Brussels:20230323T160000Z
SUMMARY:CloudFest 2023
DESCRIPTION:https://www.google.com/maps/search/?api=1&query=Europa-Park%2C+Europa-Park-Straße+2%2C+77977+Rust
END:VEVENT
END:VCALENDAR