BEGIN:VCALENDAR
VERSION:2.0
PRODID:-//InStaff und Jobs GmbH
BEGIN:VEVENT
UID:0a6f3f64749906115edaea9cc2a0762d@instaff.jobs
DTSTAMP:20260425T195400Z
LOCATION:Talavera Wiesen\, Mainaustraße\, 97082 Würzburg
DTSTART;TZID=Europe/Brussels:20230930T070000Z
DTEND;TZID=Europe/Brussels:20231008T160000Z
SUMMARY:Mainfranken-Messe 2023
DESCRIPTION:https://www.google.com/maps/search/?api=1&query=Talavera+Wiesen%2C+Mainaustraße%2C+97082+Würzburg
END:VEVENT
END:VCALENDAR