BEGIN:VCALENDAR
VERSION:2.0
PRODID:-//InStaff und Jobs GmbH
BEGIN:VEVENT
UID:abf7a0294b9c1423643c951ad3fa2345@instaff.jobs
DTSTAMP:20260426T012654Z
LOCATION:MARITIM proArte Berlin\, Friedrichstraße 151\, 10117 Berlin
DTSTART;TZID=Europe/Brussels:20240617T070000Z
DTEND;TZID=Europe/Brussels:20240620T160000Z
SUMMARY:DevOpsCon Berlin 2024
DESCRIPTION:https://www.google.com/maps/search/?api=1&query=MARITIM+proArte+Berlin%2C+Friedrichstraße+151%2C+10117+Berlin
END:VEVENT
END:VCALENDAR