BEGIN:VCALENDAR
VERSION:2.0
PRODID:-//InStaff und Jobs GmbH
BEGIN:VEVENT
UID:bf204a9362ef87226016e4282d6c4975@instaff.jobs
DTSTAMP:20260426T012812Z
LOCATION:Landesvertretung Baden-Württemberg\, Tiergartenstr\. 15\, 10785 Berlin
DTSTART;TZID=Europe/Brussels:20240611T070000Z
DTEND;TZID=Europe/Brussels:20240611T160000Z
SUMMARY:Digital Farming Conference 2024
DESCRIPTION:https://www.google.com/maps/search/?api=1&query=Landesvertretung+Baden-Württemberg%2C+Tiergartenstr.+15%2C+10785+Berlin
END:VEVENT
END:VCALENDAR