BEGIN:VCALENDAR
VERSION:2.0
PRODID:-//InStaff und Jobs GmbH
BEGIN:VEVENT
UID:c89565fa0d5a79cffff4a60b7f41156d@instaff.jobs
DTSTAMP:20260426T012723Z
LOCATION:Flughafen Tempelhof\, Platz der Luftbrücke 5\, 12101 Berlin
DTSTART;TZID=Europe/Brussels:20240405T070000Z
DTEND;TZID=Europe/Brussels:20240406T160000Z
SUMMARY:HALBMARATHON EXPO 2024
DESCRIPTION:https://www.google.com/maps/search/?api=1&query=Flughafen+Tempelhof%2C+Platz+der+Luftbrücke+5%2C+12101+Berlin
END:VEVENT
END:VCALENDAR