BEGIN:VCALENDAR
VERSION:2.0
PRODID:-//InStaff und Jobs GmbH
BEGIN:VEVENT
UID:d9f54b367af2872e1734af8506a3af01@instaff.jobs
DTSTAMP:20260426T012703Z
LOCATION:IHK Berlin\, Fasanenstraße 85\, 10623 Berlin
DTSTART;TZID=Europe/Brussels:20241204T070000Z
DTEND;TZID=Europe/Brussels:20241204T160000Z
SUMMARY:Master Messe Berlin 2024
DESCRIPTION:https://www.google.com/maps/search/?api=1&query=IHK+Berlin%2C+Fasanenstraße+85%2C+10623+Berlin
END:VEVENT
END:VCALENDAR