BEGIN:VCALENDAR
VERSION:2.0
PRODID:-//InStaff und Jobs GmbH
BEGIN:VEVENT
UID:9770230bed93a0911fba4f6fb8a3bc08@instaff.jobs
DTSTAMP:20260426T012723Z
LOCATION:hub27 Berlin\, Messegelände Berlin Jafféstraße 2\, Tor 25\, 14055 Berlin
DTSTART;TZID=Europe/Brussels:20241015T070000Z
DTEND;TZID=Europe/Brussels:20241017T160000Z
SUMMARY:Smart Country Convention 2024
DESCRIPTION:https://www.google.com/maps/search/?api=1&query=hub27+Berlin%2C+Messegelände+Berlin+Jafféstraße+2%2C+Tor+25%2C+14055+Berlin
END:VEVENT
END:VCALENDAR