BEGIN:VCALENDAR
VERSION:2.0
PRODID:-//InStaff und Jobs GmbH
BEGIN:VEVENT
UID:5d1e8829ef27e80d767442d6af1fcd71@instaff.jobs
DTSTAMP:20260426T012842Z
LOCATION:Arena Berlin\, Eichenstraße 4\, 12435 Berlin
DTSTART;TZID=Europe/Brussels:20240619T070000Z
DTEND;TZID=Europe/Brussels:20240620T160000Z
SUMMARY:vocatium Berlin I 2024
DESCRIPTION:https://www.google.com/maps/search/?api=1&query=Arena+Berlin%2C+Eichenstraße+4%2C+12435+Berlin
END:VEVENT
END:VCALENDAR