BEGIN:VCALENDAR
VERSION:2.0
PRODID:-//InStaff und Jobs GmbH
BEGIN:VEVENT
UID:591ade661cf483c3e26a21da1d5a4599@instaff.jobs
DTSTAMP:20260426T012549Z
LOCATION:Maritim proArte Hotel Berlin\, Friedrichstraße 151\, 10117 Berlin
DTSTART;TZID=Europe/Brussels:20240527T070000Z
DTEND;TZID=Europe/Brussels:20240531T160000Z
SUMMARY:webinale 2024
DESCRIPTION:https://www.google.com/maps/search/?api=1&query=Maritim+proArte+Hotel+Berlin%2C+Friedrichstraße+151%2C+10117+Berlin
END:VEVENT
END:VCALENDAR