BEGIN:VCALENDAR
VERSION:2.0
PRODID:-//InStaff und Jobs GmbH
BEGIN:VEVENT
UID:a8abf113299c683b6c895ecaefc480d5@instaff.jobs
DTSTAMP:20260423T185128Z
LOCATION:Messe Bremen\, Findorffstraße 101\, 28215 Bremen
DTSTART;TZID=Europe/Brussels:20240202T070000Z
DTEND;TZID=Europe/Brussels:20240204T160000Z
SUMMARY:Bremen Classic Motorshow 2024
DESCRIPTION:https://www.google.com/maps/search/?api=1&query=Messe+Bremen%2C+Findorffstraße+101%2C+28215+Bremen
END:VEVENT
BEGIN:VEVENT
UID:cb12cdb8ec714326934d1e855e131011@instaff.jobs
DTSTAMP:20260423T185128Z
LOCATION:Gymnasium Horn\, Vorkampsweg 97\, 28359 Bremen
DTSTART;TZID=Europe/Brussels:20240224T070000Z
DTEND;TZID=Europe/Brussels:20240224T160000Z
SUMMARY:AUF IN DIE WELT Bremen 2024
DESCRIPTION:https://www.google.com/maps/search/?api=1&query=Gymnasium+Horn%2C+Vorkampsweg+97%2C+28359+Bremen
END:VEVENT
BEGIN:VEVENT
UID:c13aed70c07d54bc7be4bc48cc3dc826@instaff.jobs
DTSTAMP:20260423T185128Z
LOCATION:Messe Bremen Halle 5\, Hollerallee 101\, 28215 Bremen
DTSTART;TZID=Europe/Brussels:20240322T070000Z
DTEND;TZID=Europe/Brussels:20240324T160000Z
SUMMARY:WEINmesse Bremen 2024
DESCRIPTION:https://www.google.com/maps/search/?api=1&query=Messe+Bremen+Halle+5%2C+Hollerallee+101%2C+28215+Bremen
END:VEVENT
BEGIN:VEVENT
UID:75db8d6bffaf997b23e1b537ffa9c041@instaff.jobs
DTSTAMP:20260423T185128Z
LOCATION:Messe Bremen\, Findorffstraße 101\, 28215 Bremen
DTSTART;TZID=Europe/Brussels:20240529T070000Z
DTEND;TZID=Europe/Brussels:20240530T160000Z
SUMMARY:vocatium Bremen 2024
DESCRIPTION:https://www.google.com/maps/search/?api=1&query=Messe+Bremen%2C+Findorffstraße+101%2C+28215+Bremen
END:VEVENT
BEGIN:VEVENT
UID:4f5e65b246996d6090c23080c2046832@instaff.jobs
DTSTAMP:20260423T185128Z
LOCATION:Gustav-Heinemann-Bürgerhaus\, Kirchheide 49\, 28757 Bremen
DTSTART;TZID=Europe/Brussels:20240816T070000Z
DTEND;TZID=Europe/Brussels:20240818T160000Z
SUMMARY:Nipponcon 2024
DESCRIPTION:https://www.google.com/maps/search/?api=1&query=Gustav-Heinemann-Bürgerhaus%2C+Kirchheide+49%2C+28757+Bremen
END:VEVENT
BEGIN:VEVENT
UID:9edba27b51d2357fc6f23c5a179d36d3@instaff.jobs
DTSTAMP:20260423T185128Z
LOCATION:Messe Bremen\, Findorffstraße 101\, 28215 Bremen
DTSTART;TZID=Europe/Brussels:20240824T070000Z
DTEND;TZID=Europe/Brussels:20240825T160000Z
SUMMARY:19 jobmesse Bremen 2024
DESCRIPTION:https://www.google.com/maps/search/?api=1&query=Messe+Bremen%2C+Findorffstraße+101%2C+28215+Bremen
END:VEVENT
BEGIN:VEVENT
UID:5f84893903aaeb848db5fd98fb9807e6@instaff.jobs
DTSTAMP:20260423T185128Z
LOCATION:Messe Bremen\, Findorffstraße 101\, 28215 Bremen
DTSTART;TZID=Europe/Brussels:20240904T070000Z
DTEND;TZID=Europe/Brussels:20240908T160000Z
SUMMARY:HanseLife 2024
DESCRIPTION:https://www.google.com/maps/search/?api=1&query=Messe+Bremen%2C+Findorffstraße+101%2C+28215+Bremen
END:VEVENT
BEGIN:VEVENT
UID:5e56c6c866d59b37026158753b5d15e8@instaff.jobs
DTSTAMP:20260423T185128Z
LOCATION:Energieleitzentrale BLG – Forum\, Am Speicher XI 11\, 28217 Bremen
DTSTART;TZID=Europe/Brussels:20240905T070000Z
DTEND;TZID=Europe/Brussels:20240905T160000Z
SUMMARY:Karrieretag Bremen 2024
DESCRIPTION:https://www.google.com/maps/search/?api=1&query=Energieleitzentrale+BLG+–+Forum%2C+Am+Speicher+XI+11%2C+28217+Bremen
END:VEVENT
BEGIN:VEVENT
UID:dc5b2784c71451d9d980063a19c690b0@instaff.jobs
DTSTAMP:20260423T185128Z
LOCATION:Tagungszentrum am Rotes Kreuz Krankenhaus\.\, St\.-Pauli-Deich 24\, 28199 Bremen
DTSTART;TZID=Europe/Brussels:20240914T070000Z
DTEND;TZID=Europe/Brussels:20240914T160000Z
SUMMARY:AUF IN DIE WELT Bremen (2) 2024
DESCRIPTION:https://www.google.com/maps/search/?api=1&query=Tagungszentrum+am+Rotes+Kreuz+Krankenhaus.%2C+St.-Pauli-Deich+24%2C+28199+Bremen
END:VEVENT
BEGIN:VEVENT
UID:af55d9d68f977b309fd8cbede8242211@instaff.jobs
DTSTAMP:20260423T185128Z
LOCATION:Messe Bremen\, Findorffstraße 101\, 28215 Bremen
DTSTART;TZID=Europe/Brussels:20240925T070000Z
DTEND;TZID=Europe/Brussels:20240928T160000Z
SUMMARY:38 Baugrundtagung 2024
DESCRIPTION:https://www.google.com/maps/search/?api=1&query=Messe+Bremen%2C+Findorffstraße+101%2C+28215+Bremen
END:VEVENT
BEGIN:VEVENT
UID:2dfac07dcc210134c9b99b416ae75518@instaff.jobs
DTSTAMP:20260423T185128Z
LOCATION:Congress Centrum Bremen\, Findorffstraße 101\, 28215 Bremen
DTSTART;TZID=Europe/Brussels:20240926T070000Z
DTEND;TZID=Europe/Brussels:20240927T160000Z
SUMMARY:Deutscher Kongress für Laboratoriumsmedizin 2024
DESCRIPTION:https://www.google.com/maps/search/?api=1&query=Congress+Centrum+Bremen%2C+Findorffstraße+101%2C+28215+Bremen
END:VEVENT
BEGIN:VEVENT
UID:d4ce361743af53c1d7803c663748f220@instaff.jobs
DTSTAMP:20260423T185128Z
LOCATION:Messe Bremen\, Findorffstraße 101\, 28215 Bremen
DTSTART;TZID=Europe/Brussels:20241009T070000Z
DTEND;TZID=Europe/Brussels:20241010T160000Z
SUMMARY:ITHEC 2024
DESCRIPTION:https://www.google.com/maps/search/?api=1&query=Messe+Bremen%2C+Findorffstraße+101%2C+28215+Bremen
END:VEVENT
BEGIN:VEVENT
UID:940072f34bdfcc46a95a0e8474d8e524@instaff.jobs
DTSTAMP:20260423T185128Z
LOCATION:Messe Bremen\, Findorffstraße 101\, 28215 Bremen
DTSTART;TZID=Europe/Brussels:20241018T070000Z
DTEND;TZID=Europe/Brussels:20241019T160000Z
SUMMARY:Bottle Market 2024
DESCRIPTION:https://www.google.com/maps/search/?api=1&query=Messe+Bremen%2C+Findorffstraße+101%2C+28215+Bremen
END:VEVENT
BEGIN:VEVENT
UID:6e91d6ab792fd614a3ec29688f155cf1@instaff.jobs
DTSTAMP:20260423T185128Z
LOCATION:Messe Bremen\, Theodor-Heuss-Allee\, 28215 Bremen
DTSTART;TZID=Europe/Brussels:20241108T070000Z
DTEND;TZID=Europe/Brussels:20241110T160000Z
SUMMARY:Caravan Bremen 2024
DESCRIPTION:https://www.google.com/maps/search/?api=1&query=Messe+Bremen%2C+Theodor-Heuss-Allee%2C+28215+Bremen
END:VEVENT
BEGIN:VEVENT
UID:54a89e3639448d4d311065e9c9a27735@instaff.jobs
DTSTAMP:20260423T185128Z
LOCATION:Messe Bremen\, Findorffstraße 101\, 28215 Bremen
DTSTART;TZID=Europe/Brussels:20241108T070000Z
DTEND;TZID=Europe/Brussels:20241110T160000Z
SUMMARY:FISCH&FEINES 2024
DESCRIPTION:https://www.google.com/maps/search/?api=1&query=Messe+Bremen%2C+Findorffstraße+101%2C+28215+Bremen
END:VEVENT
BEGIN:VEVENT
UID:ec989c5d21d45d502cc79bb133f3cdb7@instaff.jobs
DTSTAMP:20260423T185128Z
LOCATION:Messe Bremen\, Findorffstraße 101\, 28215 Bremen
DTSTART;TZID=Europe/Brussels:20241108T070000Z
DTEND;TZID=Europe/Brussels:20241110T160000Z
SUMMARY:ReiseLust 2024
DESCRIPTION:https://www.google.com/maps/search/?api=1&query=Messe+Bremen%2C+Findorffstraße+101%2C+28215+Bremen
END:VEVENT
BEGIN:VEVENT
UID:cc0029c961f432b0454dee0b9766c186@instaff.jobs
DTSTAMP:20260423T185128Z
LOCATION:Messe Bremen\, Findorffstraße 101\, 28215 Bremen
DTSTART;TZID=Europe/Brussels:20241119T070000Z
DTEND;TZID=Europe/Brussels:20241121T160000Z
SUMMARY:Space Tech Expo Europe 2024
DESCRIPTION:https://www.google.com/maps/search/?api=1&query=Messe+Bremen%2C+Findorffstraße+101%2C+28215+Bremen
END:VEVENT
BEGIN:VEVENT
UID:641f8380aba29a76ae6b7cb349b55dbf@instaff.jobs
DTSTAMP:20260423T185128Z
LOCATION:Kippenberg-Gymnasium\, Schwachhauser Heerstr\. 62-64\, 28209 Bremen
DTSTART;TZID=Europe/Brussels:20241130T070000Z
DTEND;TZID=Europe/Brussels:20241130T160000Z
SUMMARY:JuBi – Die JugendBildungsmesse Bremen 2024
DESCRIPTION:https://www.google.com/maps/search/?api=1&query=Kippenberg-Gymnasium%2C+Schwachhauser+Heerstr.+62-64%2C+28209+Bremen
END:VEVENT
BEGIN:VEVENT
UID:2078db28f45d84508c288410e44779b9@instaff.jobs
DTSTAMP:20260423T185128Z
LOCATION:Messe Bremen\, Findorffstraße 101\, 28215 Bremen
DTSTART;TZID=Europe/Brussels:20241204T070000Z
DTEND;TZID=Europe/Brussels:20241205T160000Z
SUMMARY:DeLuTa 2024
DESCRIPTION:https://www.google.com/maps/search/?api=1&query=Messe+Bremen%2C+Findorffstraße+101%2C+28215+Bremen
END:VEVENT
END:VCALENDAR