BEGIN:VCALENDAR
VERSION:2.0
PRODID:-//InStaff und Jobs GmbH
BEGIN:VEVENT
UID:5bee3a1436ee7ad521cd04b6fa55f127@instaff.jobs
DTSTAMP:20260420T155247Z
LOCATION:Zentralbibliothek\, Städtische Bibliotheken Dresden\, Schloßstraße 2\, 01067 Dresden
DTSTART;TZID=Europe/Brussels:20241102T070000Z
DTEND;TZID=Europe/Brussels:20241102T160000Z
SUMMARY:AUF IN DIE WELT Dresden 2024
DESCRIPTION:https://www.google.com/maps/search/?api=1&query=Zentralbibliothek%2C+Städtische+Bibliotheken+Dresden%2C+Schloßstraße+2%2C+01067+Dresden
END:VEVENT
END:VCALENDAR