BEGIN:VCALENDAR
VERSION:2.0
PRODID:-//InStaff und Jobs GmbH
BEGIN:VEVENT
UID:2e06ef05ad70364cae7e454d4494712a@instaff.jobs
DTSTAMP:20260424T142122Z
LOCATION:Kraftzentrale\, Emscherstraße 71\, 47137 Duisburg
DTSTART;TZID=Europe/Brussels:20240604T070000Z
DTEND;TZID=Europe/Brussels:20240605T160000Z
SUMMARY:vocatium Duisburg 2024
DESCRIPTION:https://www.google.com/maps/search/?api=1&query=Kraftzentrale%2C+Emscherstraße+71%2C+47137+Duisburg
END:VEVENT
END:VCALENDAR