BEGIN:VCALENDAR
VERSION:2.0
PRODID:-//InStaff und Jobs GmbH
BEGIN:VEVENT
UID:124963033c07decbcff9a70bb4bfad5a@instaff.jobs
DTSTAMP:20260423T185718Z
LOCATION:Grugahalle\, Messeplatz 2\, 45131 Essen
DTSTART;TZID=Europe/Brussels:20240907T070000Z
DTEND;TZID=Europe/Brussels:20240907T160000Z
SUMMARY:ABI Zukunft Essen 2024
DESCRIPTION:https://www.google.com/maps/search/?api=1&query=Grugahalle%2C+Messeplatz+2%2C+45131+Essen
END:VEVENT
END:VCALENDAR