BEGIN:VCALENDAR
VERSION:2.0
PRODID:-//InStaff und Jobs GmbH
BEGIN:VEVENT
UID:0961e864c8e4dfd27e1a5df037f110d6@instaff.jobs
DTSTAMP:20260421T081537Z
LOCATION:Congress Center Messe Essen\, Messeplatz 1\, 45131 Essen
DTSTART;TZID=Europe/Brussels:20240613T070000Z
DTEND;TZID=Europe/Brussels:20240613T160000Z
SUMMARY:Absolventenkongress Essen 2024
DESCRIPTION:https://www.google.com/maps/search/?api=1&query=Congress+Center+Messe+Essen%2C+Messeplatz+1%2C+45131+Essen
END:VEVENT
END:VCALENDAR