BEGIN:VCALENDAR
VERSION:2.0
PRODID:-//InStaff und Jobs GmbH
BEGIN:VEVENT
UID:28fbf992340f1553de65c97ad7b7ea27@instaff.jobs
DTSTAMP:20260423T190907Z
LOCATION:Grugahalle\, Messeplatz 2\, 45131 Essen
DTSTART;TZID=Europe/Brussels:20240920T070000Z
DTEND;TZID=Europe/Brussels:20240921T160000Z
SUMMARY:JOBMEDI NRW 2024
DESCRIPTION:https://www.google.com/maps/search/?api=1&query=Grugahalle%2C+Messeplatz+2%2C+45131+Essen
END:VEVENT
END:VCALENDAR