BEGIN:VCALENDAR
VERSION:2.0
PRODID:-//InStaff und Jobs GmbH
BEGIN:VEVENT
UID:14156099b2a7c1662f2a607640d37560@instaff.jobs
DTSTAMP:20260423T190711Z
LOCATION:Grugahalle\, Messepl\. 2\, 45131 Essen
DTSTART;TZID=Europe/Brussels:20240928T070000Z
DTEND;TZID=Europe/Brussels:20240928T160000Z
SUMMARY:Jobmesse Essen Herbst 2024
DESCRIPTION:https://www.google.com/maps/search/?api=1&query=Grugahalle%2C+Messepl.+2%2C+45131+Essen
END:VEVENT
END:VCALENDAR