BEGIN:VCALENDAR
VERSION:2.0
PRODID:-//InStaff und Jobs GmbH
BEGIN:VEVENT
UID:ea278fd216225ef28a525238ab5ec5d5@instaff.jobs
DTSTAMP:20260423T185719Z
LOCATION:Messe Essen\, Messeplatz 1\, 45131 Essen
DTSTART;TZID=Europe/Brussels:20240525T070000Z
DTEND;TZID=Europe/Brussels:20240526T160000Z
SUMMARY:PV Live! 2024
DESCRIPTION:https://www.google.com/maps/search/?api=1&query=Messe+Essen%2C+Messeplatz+1%2C+45131+Essen
END:VEVENT
END:VCALENDAR