BEGIN:VCALENDAR
VERSION:2.0
PRODID:-//InStaff und Jobs GmbH
BEGIN:VEVENT
UID:41dbb53f610c4ae31dfaa4b6d2e1d2c5@instaff.jobs
DTSTAMP:20260423T173353Z
LOCATION:MesseHalle Hamburg-Schnelsen\, Modering 1a\, 22457 Hamburg
DTSTART;TZID=Europe/Brussels:20240117T070000Z
DTEND;TZID=Europe/Brussels:20240118T160000Z
SUMMARY:all about automation
DESCRIPTION:https://www.google.com/maps/search/?api=1&query=MesseHalle+Hamburg-Schnelsen%2C+Modering+1a%2C+22457+Hamburg
END:VEVENT
END:VCALENDAR