BEGIN:VCALENDAR
VERSION:2.0
PRODID:-//InStaff und Jobs GmbH
BEGIN:VEVENT
UID:28d2b7d9a5411a2a6e331a3b1e4b1188@instaff.jobs
DTSTAMP:20260423T173702Z
LOCATION:Stadtteillschule Meiendorf\, Deepenhorn 1\, 22145 Hamburg
DTSTART;TZID=Europe/Brussels:20240309T070000Z
DTEND;TZID=Europe/Brussels:20240309T160000Z
SUMMARY:AUF IN DIE WELT Hamburg (2) 2024
DESCRIPTION:https://www.google.com/maps/search/?api=1&query=Stadtteillschule+Meiendorf%2C+Deepenhorn+1%2C+22145+Hamburg
END:VEVENT
END:VCALENDAR