BEGIN:VCALENDAR
VERSION:2.0
PRODID:-//InStaff und Jobs GmbH
BEGIN:VEVENT
UID:9c33d29290eb698ce9efbb1d8aa90ea8@instaff.jobs
DTSTAMP:20260423T190741Z
LOCATION:Hamburg Messe \+ Congress\, Halle B7 Karolinenstraße\, Eingang Nord\, 20357 Hamburg
DTSTART;TZID=Europe/Brussels:20241108T070000Z
DTEND;TZID=Europe/Brussels:20241110T160000Z
SUMMARY:Babini Hamburg 2024
DESCRIPTION:https://www.google.com/maps/search/?api=1&query=Hamburg+Messe+++Congress%2C+Halle+B7+Karolinenstraße%2C+Eingang+Nord%2C+20357+Hamburg
END:VEVENT
END:VCALENDAR