BEGIN:VCALENDAR
VERSION:2.0
PRODID:-//InStaff und Jobs GmbH
BEGIN:VEVENT
UID:5f4f75dbe4d84504c9d2f4440d94fa30@instaff.jobs
DTSTAMP:20260423T173353Z
LOCATION:Hamburg Messe\, Messeplatz 1\, 20357 Hamburg
DTSTART;TZID=Europe/Brussels:20241023T070000Z
DTEND;TZID=Europe/Brussels:20241024T160000Z
SUMMARY:Carbon Capture Technology Expo 2024
DESCRIPTION:https://www.google.com/maps/search/?api=1&query=Hamburg+Messe%2C+Messeplatz+1%2C+20357+Hamburg
END:VEVENT
END:VCALENDAR