BEGIN:VCALENDAR
VERSION:2.0
PRODID:-//InStaff und Jobs GmbH
BEGIN:VEVENT
UID:9323a3b369eee6788548ed737a6ed9ff@instaff.jobs
DTSTAMP:20260423T185520Z
LOCATION:IRMA Messe Messezentrum Hamburg\, Lagerstraße 10\, 20357 Hamburg
DTSTART;TZID=Europe/Brussels:20240620T070000Z
DTEND;TZID=Europe/Brussels:20240622T160000Z
SUMMARY:IRMA 2024
DESCRIPTION:https://www.google.com/maps/search/?api=1&query=IRMA+Messe+Messezentrum+Hamburg%2C+Lagerstraße+10%2C+20357+Hamburg
END:VEVENT
END:VCALENDAR