BEGIN:VCALENDAR
VERSION:2.0
PRODID:-//InStaff und Jobs GmbH
BEGIN:VEVENT
UID:395242df17a6ac9aaf370a5f8e84a93f@instaff.jobs
DTSTAMP:20260423T192223Z
LOCATION:Agentur für Arbeit Hamburg\, Kurt-Schumacher-Allee 16\, 20097 Hamburg
DTSTART;TZID=Europe/Brussels:20240413T070000Z
DTEND;TZID=Europe/Brussels:20240413T160000Z
SUMMARY:karriere:dual Hamburg 2024
DESCRIPTION:https://www.google.com/maps/search/?api=1&query=Agentur+für+Arbeit+Hamburg%2C+Kurt-Schumacher-Allee+16%2C+20097+Hamburg
END:VEVENT
END:VCALENDAR