BEGIN:VCALENDAR
VERSION:2.0
PRODID:-//InStaff und Jobs GmbH
BEGIN:VEVENT
UID:1577424d9fa9f33d35241d5486a87a7b@instaff.jobs
DTSTAMP:20260423T185521Z
LOCATION:Hamburg Messe und Congress\, Messeplatz 1\, 20357 Hamburg
DTSTART;TZID=Europe/Brussels:20240903T070000Z
DTEND;TZID=Europe/Brussels:20240906T160000Z
SUMMARY:SMM 2024
DESCRIPTION:https://www.google.com/maps/search/?api=1&query=Hamburg+Messe+und+Congress%2C+Messeplatz+1%2C+20357+Hamburg
END:VEVENT
END:VCALENDAR