BEGIN:VCALENDAR
VERSION:2.0
PRODID:-//InStaff und Jobs GmbH
BEGIN:VEVENT
UID:beb689f4064511e8969e8442dbe88ab2@instaff.jobs
DTSTAMP:20260423T173314Z
LOCATION:Millerntor-Stadion Haupttribüne\, Harald-Stender-Platz 1\, 20359 Hamburg
DTSTART;TZID=Europe/Brussels:20240918T070000Z
DTEND;TZID=Europe/Brussels:20240919T160000Z
SUMMARY:Sustainability Summit 2024
DESCRIPTION:https://www.google.com/maps/search/?api=1&query=Millerntor-Stadion+Haupttribüne%2C+Harald-Stender-Platz+1%2C+20359+Hamburg
END:VEVENT
END:VCALENDAR