BEGIN:VCALENDAR
VERSION:2.0
PRODID:-//InStaff und Jobs GmbH
BEGIN:VEVENT
UID:2b93fbba455a38d7c1d08c2a6059c73c@instaff.jobs
DTSTAMP:20260423T173621Z
LOCATION:Hamburg Messe und Congress\, Messeplatz 1\, 20357 Hamburg
DTSTART;TZID=Europe/Brussels:20241108T070000Z
DTEND;TZID=Europe/Brussels:20241109T160000Z
SUMMARY:therapie HAMBURG 2024
DESCRIPTION:https://www.google.com/maps/search/?api=1&query=Hamburg+Messe+und+Congress%2C+Messeplatz+1%2C+20357+Hamburg
END:VEVENT
END:VCALENDAR